
BEGIN:VCALENDAR
VERSION:2.0
PRODID:-//Casa Rafaela María - ECPv5.16.4//NONSGML v1.0//EN
CALSCALE:GREGORIAN
METHOD:PUBLISH
X-WR-CALNAME:Casa Rafaela María
X-ORIGINAL-URL:https://casarafaelamaria.org
X-WR-CALDESC:Eventos para Casa Rafaela María
BEGIN:VTIMEZONE
TZID:UTC
BEGIN:STANDARD
TZOFFSETFROM:+0000
TZOFFSETTO:+0000
TZNAME:UTC
DTSTART:20230101T000000
END:STANDARD
END:VTIMEZONE
BEGIN:VEVENT
DTSTART;VALUE=DATE:20230521
DTEND;VALUE=DATE:20230531
DTSTAMP:20260424T182548
CREATED:20221219T113453Z
LAST-MODIFIED:20221219T123325Z
UID:3745-1684627200-1685491199@casarafaelamaria.org
SUMMARY:TANDA de Ejercicios Espirituales Ignacianos - P. MANUEL GARCÍA BONASA sj
DESCRIPTION:TANDA de Ejercicios Espirituales Ignacianos\nDel 21 al 30 de mayo \nP. MANUEL GARCÍA BONASA sj\n  \n  \nINSCRIPCIONES: \nTfno.: 914 471 118\ninfo@casarafaelamaria.org
URL:https://casarafaelamaria.org/evento/tanda-de-ejercicios-espirituales-ignacianos-p-manuel-garcia-bonasa-sj/
CATEGORIES:Ejercicios Espirituales
ATTACH;FMTTYPE=image/jpeg:https://casarafaelamaria.org/wp-content/uploads/2022/12/grass-1913167__480.jpg
ORGANIZER;CN="Casa%20de%20Espiritualidad%20Rafaela%20Mar%C3%ADa":MAILTO:directora@casarafaelamaria.com
END:VEVENT
END:VCALENDAR