
BEGIN:VCALENDAR
VERSION:2.0
PRODID:-//Casa Rafaela María - ECPv5.16.4//NONSGML v1.0//EN
CALSCALE:GREGORIAN
METHOD:PUBLISH
X-WR-CALNAME:Casa Rafaela María
X-ORIGINAL-URL:https://casarafaelamaria.org
X-WR-CALDESC:Eventos para Casa Rafaela María
BEGIN:VTIMEZONE
TZID:UTC
BEGIN:STANDARD
TZOFFSETFROM:+0000
TZOFFSETTO:+0000
TZNAME:UTC
DTSTART:20240101T000000
END:STANDARD
END:VTIMEZONE
BEGIN:VEVENT
DTSTART;VALUE=DATE:20240621
DTEND;VALUE=DATE:20240701
DTSTAMP:20260424T165935
CREATED:20231102T125025Z
LAST-MODIFIED:20231102T151802Z
UID:3836-1718928000-1719791999@casarafaelamaria.org
SUMMARY:Ejercicios Espirituales Ignacianos - P. Cristobal Jiménez sj
DESCRIPTION:TANDA de Ejercicios Espirituales Ignacianos \nDel 21 al 30 de junio\nP. CRISTOBAL JIMÉNEZ SJ\n  \n  \n  \nINSCRIPCIONES:\nTfno.: 914 471 118\ninfo@casarafaelamaria.org\n 
URL:https://casarafaelamaria.org/evento/tanda-de-ejercicios-espirituales-ignacianos-p-cristobal-jimenez-sj/
LOCATION:Casa de Espiritualidad Rafaela María –\, Paseo General Martínez Campos\, 12\, Madrid\, 28010\, España
CATEGORIES:Ejercicios Espirituales
ATTACH;FMTTYPE=image/jpeg:https://casarafaelamaria.org/wp-content/uploads/2023/11/beach-grass-8090406_1280.jpg
ORGANIZER;CN="Casa%20de%20Espiritualidad%20Rafaela%20Mar%C3%ADa":MAILTO:directora@casarafaelamaria.com
END:VEVENT
END:VCALENDAR