
BEGIN:VCALENDAR
VERSION:2.0
PRODID:-//Casa Rafaela María - ECPv5.16.4//NONSGML v1.0//EN
CALSCALE:GREGORIAN
METHOD:PUBLISH
X-WR-CALNAME:Casa Rafaela María
X-ORIGINAL-URL:https://casarafaelamaria.org
X-WR-CALDESC:Eventos para Casa Rafaela María
BEGIN:VTIMEZONE
TZID:UTC
BEGIN:STANDARD
TZOFFSETFROM:+0000
TZOFFSETTO:+0000
TZNAME:UTC
DTSTART:20230101T000000
END:STANDARD
END:VTIMEZONE
BEGIN:VEVENT
DTSTART;VALUE=DATE:20230722
DTEND;VALUE=DATE:20230801
DTSTAMP:20260424T182415
CREATED:20221219T122108Z
LAST-MODIFIED:20221219T122942Z
UID:3759-1689984000-1690847999@casarafaelamaria.org
SUMMARY:TANDA de Ejercicios Espirituales Ignacianos - P. ANTONIO ALLENDE sj
DESCRIPTION:TANDA de Ejercicios Espirituales Ignacianos\nDel 22 al 31 de julio \nP. ANTONIO ALLENDE sj\n  \n  \nINSCRIPCIONES: \nTfno.: 914 471 118\ninfo@casarafaelamaria.org
URL:https://casarafaelamaria.org/evento/tanda-de-ejercicios-espirituales-ignacianos-p-antonio-allende-sj/
LOCATION:Casa de Espiritualidad Rafaela María –\, Paseo General Martínez Campos\, 12\, Madrid\, 28010\, España
CATEGORIES:Ejercicios Espirituales
ATTACH;FMTTYPE=image/jpeg:https://casarafaelamaria.org/wp-content/uploads/2022/12/lavender-7489530_1280.jpg
END:VEVENT
END:VCALENDAR