
BEGIN:VCALENDAR
VERSION:2.0
PRODID:-//Casa Rafaela María - ECPv5.16.4//NONSGML v1.0//EN
CALSCALE:GREGORIAN
METHOD:PUBLISH
X-WR-CALNAME:Casa Rafaela María
X-ORIGINAL-URL:https://casarafaelamaria.org
X-WR-CALDESC:Eventos para Casa Rafaela María
BEGIN:VTIMEZONE
TZID:Europe/Madrid
BEGIN:DAYLIGHT
TZOFFSETFROM:+0100
TZOFFSETTO:+0200
TZNAME:CEST
DTSTART:20250330T010000
END:DAYLIGHT
BEGIN:STANDARD
TZOFFSETFROM:+0200
TZOFFSETTO:+0100
TZNAME:CET
DTSTART:20251026T010000
END:STANDARD
END:VTIMEZONE
BEGIN:VEVENT
DTSTART;TZID=Europe/Madrid:20251129T090000
DTEND;TZID=Europe/Madrid:20251129T190000
DTSTAMP:20260424T164925
CREATED:20250106T222111Z
LAST-MODIFIED:20250228T153904Z
UID:3987-1764406800-1764442800@casarafaelamaria.org
SUMMARY:Retiro de ADVIENTO
DESCRIPTION:Retiro ADVIENTO \nSábado 29 de noviembre de 2025 \nAcompaña el Equipo de la Casa de Espiritualidad \nINSCRIPCIONES: \nTfno.: 914 471 118 \nEmail: directora@casarafaelamaria.org
URL:https://casarafaelamaria.org/evento/retiro-de-adviento/
LOCATION:Casa de Espiritualidad Rafaela María –\, Paseo General Martínez Campos\, 12\, Madrid\, 28010\, España
CATEGORIES:Actividades,Ejercicios Espirituales,Retiro
ATTACH;FMTTYPE=image/jpeg:https://casarafaelamaria.org/wp-content/uploads/2024/12/5.-thomas-kinto-K9WKqYj55E0-unsplash.jpg
ORGANIZER;CN="Casa%20de%20Espiritualidad%20Rafaela%20Mar%C3%ADa":MAILTO:directora@casarafaelamaria.com
END:VEVENT
END:VCALENDAR