
BEGIN:VCALENDAR
VERSION:2.0
PRODID:-//Casa Rafaela María - ECPv5.16.4//NONSGML v1.0//EN
CALSCALE:GREGORIAN
METHOD:PUBLISH
X-WR-CALNAME:Casa Rafaela María
X-ORIGINAL-URL:https://casarafaelamaria.org
X-WR-CALDESC:Eventos para Casa Rafaela María
BEGIN:VTIMEZONE
TZID:Europe/Madrid
BEGIN:DAYLIGHT
TZOFFSETFROM:+0100
TZOFFSETTO:+0200
TZNAME:CEST
DTSTART:20260329T010000
END:DAYLIGHT
BEGIN:STANDARD
TZOFFSETFROM:+0200
TZOFFSETTO:+0100
TZNAME:CET
DTSTART:20261025T010000
END:STANDARD
END:VTIMEZONE
BEGIN:VEVENT
DTSTART;TZID=Europe/Madrid:20260321T100000
DTEND;TZID=Europe/Madrid:20260321T170000
DTSTAMP:20260424T165935
CREATED:20260221T151315Z
LAST-MODIFIED:20260221T191739Z
UID:4041-1774087200-1774112400@casarafaelamaria.org
SUMMARY:Retiro de Cuaresma
DESCRIPTION:RETIRO CUARESMA \n21 de marzo 2026 \nDe 10:00 h. a 18:00h.  \nINMACULADA ROMERO\, ACI \n \nINSCRIPCIONES: \nLink \nTfno.: 914 471 118 \nEmail: directora@casarafaelamaria.org
URL:https://casarafaelamaria.org/evento/retiro-cuaresma-21-marzo-2026/
LOCATION:Casa de Espiritualidad Rafaela María –\, Paseo General Martínez Campos\, 12\, Madrid\, 28010\, España
CATEGORIES:Actividades,Ejercicios Espirituales
ATTACH;FMTTYPE=image/jpeg:https://casarafaelamaria.org/wp-content/uploads/2026/02/retiro-cuaresma.jpeg
ORGANIZER;CN="Casa%20de%20Espiritualidad%20Rafaela%20Mar%C3%ADa":MAILTO:directora@casarafaelamaria.com
END:VEVENT
END:VCALENDAR