
BEGIN:VCALENDAR
VERSION:2.0
PRODID:-//Casa Rafaela María - ECPv5.16.4//NONSGML v1.0//EN
CALSCALE:GREGORIAN
METHOD:PUBLISH
X-WR-CALNAME:Casa Rafaela María
X-ORIGINAL-URL:https://casarafaelamaria.org
X-WR-CALDESC:Eventos para Casa Rafaela María
BEGIN:VTIMEZONE
TZID:UTC
BEGIN:STANDARD
TZOFFSETFROM:+0000
TZOFFSETTO:+0000
TZNAME:UTC
DTSTART:20240101T000000
END:STANDARD
END:VTIMEZONE
BEGIN:VEVENT
DTSTART;VALUE=DATE:20240322
DTEND;VALUE=DATE:20240401
DTSTAMP:20260424T170106
CREATED:20231102T123136Z
LAST-MODIFIED:20231102T125400Z
UID:3827-1711065600-1711929599@casarafaelamaria.org
SUMMARY:Ejercicios Espirituales Ignacianos - SEMANA SANTA - P. J. Luís Martín Pajares sj
DESCRIPTION:TANDA de Ejercicios Espirituales Ignacianos – SEMANA SANTA\nDel 22 al 31 de marzo\nP. J. LUÍS MARTÍN PAJARES SJ\n  \n  \n  \nINSCRIPCIONES:\nTfno.: 914 471 118\ninfo@casarafaelamaria.org\n 
URL:https://casarafaelamaria.org/evento/ejercicios-espirituales-ignacianos-semana-santa-p-j-luis-martin-pajares-sj/
LOCATION:Casa de Espiritualidad Rafaela María –\, Paseo General Martínez Campos\, 12\, Madrid\, 28010\, España
CATEGORIES:Ejercicios Espirituales
ATTACH;FMTTYPE=image/jpeg:https://casarafaelamaria.org/wp-content/uploads/2023/11/passion-2168797_1280.jpg
ORGANIZER;CN="Casa%20de%20Espiritualidad%20Rafaela%20Mar%C3%ADa":MAILTO:directora@casarafaelamaria.com
END:VEVENT
END:VCALENDAR