
BEGIN:VCALENDAR
VERSION:2.0
PRODID:-//Casa Rafaela María - ECPv5.16.4//NONSGML v1.0//EN
CALSCALE:GREGORIAN
METHOD:PUBLISH
X-WR-CALNAME:Casa Rafaela María
X-ORIGINAL-URL:https://casarafaelamaria.org
X-WR-CALDESC:Eventos para Casa Rafaela María
BEGIN:VTIMEZONE
TZID:Europe/Madrid
BEGIN:DAYLIGHT
TZOFFSETFROM:+0100
TZOFFSETTO:+0200
TZNAME:CEST
DTSTART:20250330T010000
END:DAYLIGHT
BEGIN:STANDARD
TZOFFSETFROM:+0200
TZOFFSETTO:+0100
TZNAME:CET
DTSTART:20251026T010000
END:STANDARD
END:VTIMEZONE
BEGIN:VEVENT
DTSTART;TZID=Europe/Madrid:20250513T210000
DTEND;TZID=Europe/Madrid:20250522T100000
DTSTAMP:20260424T165933
CREATED:20241205T200736Z
LAST-MODIFIED:20250228T154227Z
UID:3916-1747170000-1747908000@casarafaelamaria.org
SUMMARY:Ejercicios Espirituales Ignacianos - P. Luis Aparicio\, sj
DESCRIPTION:TANDA de Ejercicios Espirituales Ignacianos \nDel  13 al 22 de mayo\n(Empiezan con la cena del día 13 y terminan con el desayuno del 22) \nP. LUIS APARICIO SJ\nINSCRIPCIONES:\nTfno.: 914 471 118\ndirectora@casarafaelamaria.org
URL:https://casarafaelamaria.org/evento/ejercicios-espirituales-ignacianos-p-luis-aparicio-sj/
LOCATION:Casa de Espiritualidad Rafaela María –\, Paseo General Martínez Campos\, 12\, Madrid\, 28010\, España
CATEGORIES:Actividades,Ejercicios Espirituales
ATTACH;FMTTYPE=image/jpeg:https://casarafaelamaria.org/wp-content/uploads/2024/12/7-pedro-lima-HtwsbbClBOs-unsplash-scaled.jpg
ORGANIZER;CN="Casa%20de%20Espiritualidad%20Rafaela%20Mar%C3%ADa":MAILTO:directora@casarafaelamaria.com
END:VEVENT
END:VCALENDAR