
BEGIN:VCALENDAR
VERSION:2.0
PRODID:-//Casa Rafaela María - ECPv5.16.4//NONSGML v1.0//EN
CALSCALE:GREGORIAN
METHOD:PUBLISH
X-WR-CALNAME:Casa Rafaela María
X-ORIGINAL-URL:https://casarafaelamaria.org
X-WR-CALDESC:Eventos para Casa Rafaela María
BEGIN:VTIMEZONE
TZID:UTC
BEGIN:STANDARD
TZOFFSETFROM:+0000
TZOFFSETTO:+0000
TZNAME:UTC
DTSTART:20240101T000000
END:STANDARD
END:VTIMEZONE
BEGIN:VEVENT
DTSTART;VALUE=DATE:20241121
DTEND;VALUE=DATE:20241201
DTSTAMP:20260424T171643
CREATED:20231102T144745Z
LAST-MODIFIED:20231102T144957Z
UID:3863-1732147200-1733011199@casarafaelamaria.org
SUMMARY:Ejercicios Espirituales Ignacianos - P. Juan Luís Veza sj
DESCRIPTION:TANDA de Ejercicios Espirituales Ignacianos \nDel 21 al 30 de noviembre\nP. JUAN LUÍS VEZA SJ\n  \n  \nINSCRIPCIONES:\nTfno.: 914 471 118\ninfo@casarafaelamaria.org\n  \n  \n 
URL:https://casarafaelamaria.org/evento/ejercicios-espirituales-ignacianos-p-juan-luis-veza-sj/
LOCATION:Casa de Espiritualidad Rafaela María –\, Paseo General Martínez Campos\, 12\, Madrid\, 28010\, España
CATEGORIES:Ejercicios Espirituales
ATTACH;FMTTYPE=image/jpeg:https://casarafaelamaria.org/wp-content/uploads/2023/11/maple-2135514_1280.jpg
ORGANIZER;CN="Casa%20de%20Espiritualidad%20Rafaela%20Mar%C3%ADa":MAILTO:directora@casarafaelamaria.com
END:VEVENT
END:VCALENDAR