
BEGIN:VCALENDAR
VERSION:2.0
PRODID:-//Casa Rafaela María - ECPv5.16.4//NONSGML v1.0//EN
CALSCALE:GREGORIAN
METHOD:PUBLISH
X-WR-CALNAME:Casa Rafaela María
X-ORIGINAL-URL:https://casarafaelamaria.org
X-WR-CALDESC:Eventos para Casa Rafaela María
BEGIN:VTIMEZONE
TZID:UTC
BEGIN:STANDARD
TZOFFSETFROM:+0000
TZOFFSETTO:+0000
TZNAME:UTC
DTSTART:20240101T000000
END:STANDARD
END:VTIMEZONE
BEGIN:VEVENT
DTSTART;VALUE=DATE:20240901
DTEND;VALUE=DATE:20240911
DTSTAMP:20260424T171718
CREATED:20231102T143454Z
LAST-MODIFIED:20250228T154831Z
UID:3853-1725148800-1726012799@casarafaelamaria.org
SUMMARY:Ejercicios Espirituales Ignacianos - P. Juan José Martínez sj
DESCRIPTION:TANDA de Ejercicios Espirituales Ignacianos \nDel 1 al 10 de septiembre\nP. JUAN JOSÉ MARTÍNEZ SJ\n  \n  \n  \nINSCRIPCIONES:\nTfno.: 914 471 118\ninfo@casarafaelamaria.org\n 
URL:https://casarafaelamaria.org/evento/ejercicios-espirituales-ignacianos-p-juan-jose-martinez-sj/
LOCATION:Casa de Espiritualidad Rafaela María –\, Paseo General Martínez Campos\, 12\, Madrid\, 28010\, España
CATEGORIES:Actividades,Ejercicios Espirituales
ATTACH;FMTTYPE=image/jpeg:https://casarafaelamaria.org/wp-content/uploads/2023/11/R-1.jpg
ORGANIZER;CN="Casa%20de%20Espiritualidad%20Rafaela%20Mar%C3%ADa":MAILTO:directora@casarafaelamaria.com
END:VEVENT
END:VCALENDAR