
BEGIN:VCALENDAR
VERSION:2.0
PRODID:-//Casa Rafaela María - ECPv5.16.4//NONSGML v1.0//EN
CALSCALE:GREGORIAN
METHOD:PUBLISH
X-WR-CALNAME:Casa Rafaela María
X-ORIGINAL-URL:https://casarafaelamaria.org
X-WR-CALDESC:Eventos para Casa Rafaela María
BEGIN:VTIMEZONE
TZID:Europe/Madrid
BEGIN:DAYLIGHT
TZOFFSETFROM:+0100
TZOFFSETTO:+0200
TZNAME:CEST
DTSTART:20250330T010000
END:DAYLIGHT
BEGIN:STANDARD
TZOFFSETFROM:+0200
TZOFFSETTO:+0100
TZNAME:CET
DTSTART:20251026T010000
END:STANDARD
END:VTIMEZONE
BEGIN:VEVENT
DTSTART;TZID=Europe/Madrid:20250411T210000
DTEND;TZID=Europe/Madrid:20250420T100000
DTSTAMP:20260424T182407
CREATED:20241205T195037Z
LAST-MODIFIED:20250228T154404Z
UID:3911-1744405200-1745143200@casarafaelamaria.org
SUMMARY:Ejercicios Espirituales Ignacianos - P. Jorge Vázquez sj
DESCRIPTION:TANDA de Ejercicios Espirituales Ignacianos \nDel 11 de abril al 20 de abril\n(Empiezan con la cena del día 11 y terminan con el desayuno del 20) \nP. JORGE VÁZQUEZ SJ\n \nFoto de Dawid Zawiła en Unsplash
URL:https://casarafaelamaria.org/evento/ejercicios-espirituales-ignacianos-p-jorge-vazquez-sj/
LOCATION:Casa de Espiritualidad Rafaela María –\, Paseo General Martínez Campos\, 12\, Madrid\, 28010\, España
CATEGORIES:Actividades,Ejercicios Espirituales
ATTACH;FMTTYPE=image/jpeg:https://casarafaelamaria.org/wp-content/uploads/2024/12/1.-dawid-zawila-G3rw6Y02D0-unsplash-scaled.jpg
ORGANIZER;CN="Casa%20de%20Espiritualidad%20Rafaela%20Mar%C3%ADa":MAILTO:directora@casarafaelamaria.com
END:VEVENT
END:VCALENDAR