
BEGIN:VCALENDAR
VERSION:2.0
PRODID:-//Casa Rafaela María - ECPv5.16.4//NONSGML v1.0//EN
CALSCALE:GREGORIAN
METHOD:PUBLISH
X-WR-CALNAME:Casa Rafaela María
X-ORIGINAL-URL:https://casarafaelamaria.org
X-WR-CALDESC:Eventos para Casa Rafaela María
BEGIN:VTIMEZONE
TZID:Europe/Madrid
BEGIN:DAYLIGHT
TZOFFSETFROM:+0100
TZOFFSETTO:+0200
TZNAME:CEST
DTSTART:20250330T010000
END:DAYLIGHT
BEGIN:STANDARD
TZOFFSETFROM:+0200
TZOFFSETTO:+0100
TZNAME:CET
DTSTART:20251026T010000
END:STANDARD
END:VTIMEZONE
BEGIN:VEVENT
DTSTART;TZID=Europe/Madrid:20250225T210000
DTEND;TZID=Europe/Madrid:20250306T100000
DTSTAMP:20260424T171643
CREATED:20241124T224107Z
LAST-MODIFIED:20250228T154617Z
UID:3898-1740517200-1741255200@casarafaelamaria.org
SUMMARY:Ejercicios Espirituales Ignacianos - P. Elías Royón\, sj 
DESCRIPTION:Ejercicios Espirituales Ignacianos\n25 de febrero al 6 de marzo 2025\nP. Elías Royón\, sj \nINSCRIPCIONES:\nTfno.: 914 471 118\ndirectora@casarafaelamaria.org\n 
URL:https://casarafaelamaria.org/evento/ejercicios-espirituales-ignacianos-p-elias-royon-sj/
LOCATION:Casa de Espiritualidad Rafaela María –\, Paseo General Martínez Campos\, 12\, Madrid\, 28010\, España
CATEGORIES:Actividades,Ejercicios Espirituales
ATTACH;FMTTYPE=image/jpeg:https://casarafaelamaria.org/wp-content/uploads/2023/11/sunset-3314275_1280.jpg
ORGANIZER;CN="Casa%20de%20Espiritualidad%20Rafaela%20Mar%C3%ADa":MAILTO:directora@casarafaelamaria.com
END:VEVENT
END:VCALENDAR