
BEGIN:VCALENDAR
VERSION:2.0
PRODID:-//Casa Rafaela María - ECPv5.16.4//NONSGML v1.0//EN
CALSCALE:GREGORIAN
METHOD:PUBLISH
X-WR-CALNAME:Casa Rafaela María
X-ORIGINAL-URL:https://casarafaelamaria.org
X-WR-CALDESC:Eventos para Casa Rafaela María
BEGIN:VTIMEZONE
TZID:Europe/Madrid
BEGIN:DAYLIGHT
TZOFFSETFROM:+0100
TZOFFSETTO:+0200
TZNAME:CEST
DTSTART:20260329T010000
END:DAYLIGHT
BEGIN:STANDARD
TZOFFSETFROM:+0200
TZOFFSETTO:+0100
TZNAME:CET
DTSTART:20261025T010000
END:STANDARD
END:VTIMEZONE
BEGIN:VEVENT
DTSTART;TZID=Europe/Madrid:20260712T200000
DTEND;TZID=Europe/Madrid:20260720T100000
DTSTAMP:20260424T135811
CREATED:20260221T191658Z
LAST-MODIFIED:20260221T191658Z
UID:4052-1783886400-1784541600@casarafaelamaria.org
SUMMARY:Ejercicios Espirituales - G. Villagrán sj y F. Oñate aci
DESCRIPTION:TANDA de Ejercicios Espirituales Ignacianos  \nDel  12 al 20 de JULIO. \n(Empiezan con la cena del día 12 y terminan con el desayuno del 20) \nGONZALO VILLAGRÁN  SJ Y FRANCISCA OÑATE ACI \nINSCRIPCIONES: \nTfno.: 914 471 118 \nEmail: directora@casarafaelamaria.org
URL:https://casarafaelamaria.org/evento/ejercicios-espirituales-ignacianos-12-20-julio/
LOCATION:Casa de Espiritualidad Rafaela María –\, Paseo General Martínez Campos\, 12\, Madrid\, 28010\, España
CATEGORIES:Actividades,Ejercicios Espirituales
ATTACH;FMTTYPE=image/png:https://casarafaelamaria.org/wp-content/uploads/2026/02/jordan-wozniak-xP_AGmeEa6s-amanecer-peq.png
ORGANIZER;CN="Casa%20de%20Espiritualidad%20Rafaela%20Mar%C3%ADa":MAILTO:directora@casarafaelamaria.com
END:VEVENT
END:VCALENDAR