
BEGIN:VCALENDAR
VERSION:2.0
PRODID:-//Casa Rafaela María - ECPv5.16.4//NONSGML v1.0//EN
CALSCALE:GREGORIAN
METHOD:PUBLISH
X-WR-CALNAME:Casa Rafaela María
X-ORIGINAL-URL:https://casarafaelamaria.org
X-WR-CALDESC:Eventos para Casa Rafaela María
BEGIN:VTIMEZONE
TZID:Europe/Madrid
BEGIN:DAYLIGHT
TZOFFSETFROM:+0100
TZOFFSETTO:+0200
TZNAME:CEST
DTSTART:20260329T010000
END:DAYLIGHT
BEGIN:STANDARD
TZOFFSETFROM:+0200
TZOFFSETTO:+0100
TZNAME:CET
DTSTART:20261025T010000
END:STANDARD
END:VTIMEZONE
BEGIN:VEVENT
DTSTART;TZID=Europe/Madrid:20260901T200000
DTEND;TZID=Europe/Madrid:20260910T100000
DTSTAMP:20260424T135836
CREATED:20260221T193257Z
LAST-MODIFIED:20260221T193257Z
UID:4055-1788292800-1789034400@casarafaelamaria.org
SUMMARY:Ejercicios espirituales - Elías Royón sj
DESCRIPTION:TANDA de Ejercicios Espirituales Ignacianos  \nDel  1 al 10 de SEPTIEMBRE \n(Empiezan con la cena del día 1 y terminan con el desayuno del 10) \nELÍAS ROYÓN SJ \nINSCRIPCIONES: \nTfno.: 914 471 118 \nEmail: directora@casarafaelamaria.org \n 
URL:https://casarafaelamaria.org/evento/ejercicios-espirituales-ignacianos-1-10-septiembre/
LOCATION:Casa de Espiritualidad Rafaela María –\, Paseo General Martínez Campos\, 12\, Madrid\, 28010\, España
CATEGORIES:Actividades,Ejercicios Espirituales
ATTACH;FMTTYPE=image/png:https://casarafaelamaria.org/wp-content/uploads/2026/02/dawid-zawila-G3rw6Y02D0-amanecer.png
ORGANIZER;CN="Casa%20de%20Espiritualidad%20Rafaela%20Mar%C3%ADa":MAILTO:directora@casarafaelamaria.com
END:VEVENT
END:VCALENDAR